Workbook
Name half: GeneralInfo!$S$4:$S$5
Name pre: GeneralInfo!$S$1:$S$3
Name AR: Banks!$AA$7
Name yy: GeneralInfo!$S$1:$S$5

Sheet Index
E6: XBRL Excel Utility
E7: 1. | F7: Overview
E8: 2. | F8: Before you begin
E9: 3. | F9: Index
E10: 4. | F10: Import XBRL file
E11: 5. | F11: Steps for filing Shareholding Pattern
E12: 6. | F12: Fill up the Shareholding Pattern
D15: 1. Overview
D16: The excel utility can be used for creating the XBRL/XML file for efiling of shareholding pattern.
D17: Shareholding pattern XBRL filling consists of two processes. Firstly generation of XBRL/XML file of the Shareholding pattern, and upload of generated XBRL/XML file to BSE Listing Center.
D20: 2. Before you begin
D21: 1. The version of Microsoft Excel in your system should be Microsoft Office Excel 2007 and above.
D22: 2. The system should have a file compression software to unzip excel utility file.
D23: 3. Make sure that you have downloaded the latest Excel Utility from BSE Website to your local system.
D24: 4. Make sure that you have downloaded the Chrome Browser to view report generated from Excel utility
D25: 5. Please enable the Macros (if disabled) as per instructions given in manual, so that all the functionalities of Excel Utility works fine. Please first go through Enable Macro - Manual attached with zip file.
D28: 3. Index
D29: 1 | E29: Details of general information about company | J29: General Info
D30: 2 | E30: Declaration | J30: Declaration
D31: 3 | E31: Summary | J31: Summary
D32: 4 | E32: Shareholding Pattern | J32: Shareholding Pattern
D35: 4. Import XBRL file
D36: 1. Now you can import and view previously generated XBRL files by clicking Import XBRL button on Genenral information sheet.
D40: 5. Steps for Filing Shareholding Pattern
D41: I. Fill up the data: Navigate to each field of every section in the sheet to provide applicable data in correct format. (Formats will get reflected while filling data.) - Use paste special command to paste data from other sheet.
D42: II. Validating Sheets: Click on the ''Validate " button to ensure that the sheet has been properly filled and also data has been furnished in proper format. If there are some errors on the sheet, excel utility will prompt you about the same.
D43: III. Validate All Sheets: Click on the ''Home" button. And then click on "Validate All Sheet" button to ensure that all sheets has been properly filled and validated successfully. If there are some errors on the sheet, excel utility will prompt you about the same and stop validation at the same time. After correction, once again follow the same procedure to validate all sheets.
D44: Excel Utility will not allow you to generate XBRL/XML until you rectify all errors.
D45: IV. Generate XML : Excel Utility will not allow you to generate XBRL/XML unless successful validation of all sheet is completed. Now click on 'Generate XML'' to generate XBRL/XML file. - Save the XBRL/XML file in your desired folder in local system.
D46: V. Generate Report : Excel Utility will allow you to generate Report. Now click on 'Generate Report'' to generate html report. - Save the HTML Report file in your desired folder in local system. - To view HTML Report open "Chrome Web Browser" . - To print report in PDF Format, Click on print button and save as PDF.
D47: VI. Upload XML file to BSE Listing Center: For uploading the XBRL/XML file generated through Utility, login to BSE Listing Center and upload generated xml file. On Upload screen provide the required information and browse to select XML file and submit the XML.
D50: 6. Fill up the Shareholding Pattern
D51: 1. Cells with red fonts indicate mandatory fields.
... D59: 9. Adding Notes: Click on "Add Notes" button to add notes

Sheet GeneralInfo
R1: Equity Shares | S1: Pre-listing | T1: June | U1: Yes | W1: Pre-listing
R2: Preference Shares | S2: Quarterly | T2: September | U2: No | W2: Capital Restructuring
R3: Differential Voting Rights | S3: Capital Restructuring | T3: December | W3: Half yearly
S4: Half yearly | T4: March | W4: Yearly
E5: General information about company | S5: Yearly
E6: Scrip code | F6: 535719
E7: NSE Symbol | M7: Regulation 31 (1) (a) | X7: Yes
E8: MSEI Symbol | M8: Regulation 31 (1) (b) | X8: No
E9: ISIN | F9: INE989J01017 | M9: Regulation 31 (1) (c)
E10: Name of the company | F10: QUEST SOFTECH INDIA LTD | M10: Regulation 31 (1)
E11: Whether company is SME | F11: No
E12: Class of Security | F12: Equity Shares
E13: Type of report | F13: Quarterly
E14: Quarter Ended / Half year ended/Date of Report (For Prelisting / Allotment) | F14: 31-12-2020
E15: Date of allotment / extinguishment (in case Capital Restructuring selected) / Listing Date
E16: Shareholding pattern filed under | F16: =IF(F13=S1,M7,IF(F13=S2,M8,IF(F13=S3,M9,IF(F13=S4,M8,IF(F13=S5,M8,""))))) -> Regulation 31 (1) (b)
E17: Whether the listed entity is Public Sector Undertaking (PSU)? | F17: No

Sheet Declaration
A1: Micro@213Vista | T1: Micro@213Vista | U1: Yes
U2: No
D8: Sr. No. | E8: Particular | F8: Yes/No | G8: Promoter and Promoter Group | H8: Public shareholder | I8: Non Promoter- Non Public
D9: 1 | E9: Whether the Listed Entity has issued any partly paid up shares? | F9: No | G9: No | H9: No | I9: No | M9: 1 | N9: 1 | O9: 1 | P9: 1 | R9: Partly Paid Up Shares | S9: Partly Paid Up Shares PPG | T9: Partly Paid Up Shares Public | U9: Partly Paid Up Shares NPNP
D10: 2 | E10: Whether the Listed Entity has issued any Convertible Securities ? | F10: No | G10: No | H10: No | I10: No | M10: 1 | N10: 1 | O10: 1 | P10: 1 | R10: Convertible Securities | S10: Convertible Securities PPG | T10: Convertible Securities Public | U10: Convertible Securities NPNP
D11: 3 | E11: Whether the Listed Entity has issued any Warrants ? | F11: No | G11: No | H11: No | I11: No | M11: 1 | N11: 1 | O11: 1 | P11: 1 | R11: Warrants | S11: Warrants PPG | T11: Warrants Public | U11: Warrants NPNP
D12: 4 | E12: Whether the Listed Entity has any shares against which depository receipts are issued? | F12: No | G12: No | H12: No | I12: No | M12: 1 | N12: 1 | O12: 1 | P12: 1 | R12: Depository Receipts | S12: Depository Receipts PPG | T12: Depository Receipts Public | U12: Depository Receipts NPNP
D13: 5 | E13: Whether the Listed Entity has any shares in locked-in? | F13: No | G13: No | H13: No | I13: No | M13: 1 | N13: 1 | O13: 1 | P13: 1 | R13: Locked In | S13: Locked In PPG | T13: Locked In Public | U13: Locked In NPNP
D14: 6 | E14: Whether any shares held by promoters are pledge or otherwise encumbered? | F14: No | G14: No | M14: 1 | N14: 1 | O14: 0 | P14: 0 | R14: Pledge Or Otherwise Encumbered | S14: Pledge Or Otherwise Encumbered PPG | T14: Pledge Or Otherwise Encumbered Public | U14: Pledge Or Otherwise Encumbered NPNP
D15: 7 | E15: Whether company has equity shares with differential voting rights? | F15: No | G15: No | H15: No | I15: No | M15: 1 | N15: 1 | O15: 1 | P15: 1 | R15: Voting Rights | S15: Voting Rights PPG | T15: Voting Rights Public | U15: Voting Rights NPNP
D16: 8 | E16: Whether the listed entity has any significant beneficial owner? | F16: No | R16: Whether the listed entity has any significant beneficial owner?

Sheet Summary
G2: Number of shareholders | H2: Number of fully paid up equity shares | I2: Number of partly paid-up equity shares | J2: Number of shares underlying outstanding depository receipts | K2: Total number of shares | L2: Shareholding as a percentage of total number of shares held by promoters and public shareholders and custodians or DR holders | M2: Number of voting rights held by same class of securities | N2: Number of voting rights held by differential voting rights | O2: Total Number of voting rights | P2: Percentage of total number of voting rights | Q2: Number of shares underlying outstanding convertible securities | R2: Number of warrant | S2: Total shareholding as a percentage assuming full conversion of convertible securities | T2: Total shareholding as a percentage assuming full conversion of convertible securities | U2: Number of the locked-in-shares | V2: Locked-in-shares as a percentage of total number of shares | W2: Pledged or encumbered - number of shares | X2: Pledged or encumbered shares held as percentage of total number of shares | Y2: Number of equity shares held in dematerialized form
E8: Table I - Summary Statement holding of specified securities
E9: Note : Data will be automatically populated from shareholding pattern sheet - Data Entry Restricted in this sheet
E10: Category (I) | F10: Category of shareholder (II) | G10: Nos. Of shareholders (III) | H10: No. of fully paid up equity shares held (IV) | I10: No. Of Partly paid-up equity shares held (V) | J10: No. Of shares underlying Depository Receipts (VI) | K10: Total nos. shares held (VII) = (IV)+(V)+ (VI) | L10: Shareholding as a % of total no. of shares (calculated as per SCRR, 1957) (VIII) As a % of (A+B+C2) | M10: Number of Voting Rights held in each class of securities (IX) | Q10: No. Of Shares Underlying Outstanding convertible securities (X) | R10: No. of Shares Underlying Outstanding Warrants (Xi) | S10: No. Of Shares Underlying Outstanding convertible securities and No. Of Warrants (Xi) (a) | T10: Shareholding , as a % assuming full conversion of convertible securities ( as a percentage of diluted share capital) (XI)= (VII)+(X) As a % of (A+B+C2) | U10: Number of Locked in shares (XII) | W10: Number of Shares pledged or otherwise encumbered (XIII) | Y10: Number of equity shares held in dematerialized form (XIV)
M11: No of Voting (XIV) Rights | P11: Total as a % of (A+B+C)
M12: Class eg: X | N12: Class eg:y | O12: Total | U12: No. (a) | V12: As a % of total Shares held (b) | W12: No. (a) | X12: As a % of total Shares held (b)
E13: (A) | F13: Promoter & Promoter Group | G13: =+IFERROR(IF(COUNT('Shareholding Pattern'!H26),('Shareholding Pattern'!H26),""),"") -> 2 | H13: =+IFERROR(IF(COUNT('Shareholding Pattern'!I26),('Shareholding Pattern'!I26),""),"") -> 4381397 | I13: =+IFERROR(IF(COUNT('Shareholding Pattern'!J26),('Shareholding Pattern'!J26),""),"") | J13: =+IFERROR(IF(COUNT('Shareholding Pattern'!K26),('Shareholding Pattern'!K26),""),"") | K13: =+IFERROR(IF(COUNT('Shareholding Pattern'!L26),('Shareholding Pattern'!L26),""),"") -> 4381397 | L13: =+IFERROR(IF(COUNT('Shareholding Pattern'!M26),('Shareholding Pattern'!M26),""),"") -> 43.81 | M13: =+IFERROR(IF(COUNT('Shareholding Pattern'!N26),('Shareholding Pattern'!N26),""),"") -> 4381397 | N13: =+IFERROR(IF(COUNT('Shareholding Pattern'!O26),('Shareholding Pattern'!O26),""),"") | ... Y13: =+IFERROR(IF(COUNT('Shareholding Pattern'!Z26),('Shareholding Pattern'!Z26),""),"") -> 4381397
E14: (B) | F14: Public | G14: =+IFERROR(IF(COUNT('Shareholding Pattern'!H50),('Shareholding Pattern'!H50),""),"") -> 5641 | H14: =+IFERROR(IF(COUNT('Shareholding Pattern'!I50),('Shareholding Pattern'!I50),""),"") -> 5618603 | I14: =+IFERROR(IF(COUNT('Shareholding Pattern'!J50),('Shareholding Pattern'!J50),""),"") | J14: =+IFERROR(IF(COUNT('Shareholding Pattern'!K50),('Shareholding Pattern'!K50),""),"") | K14: =+IFERROR(IF(COUNT('Shareholding Pattern'!L50),('Shareholding Pattern'!L50),""),"") -> 5618603 | L14: =+IFERROR(IF(COUNT('Shareholding Pattern'!M50),('Shareholding Pattern'!M50),""),"") -> 56.19 | M14: =+IFERROR(IF(COUNT('Shareholding Pattern'!N50),('Shareholding Pattern'!N50),""),"") -> 5618603 | N14: =+IFERROR(IF(COUNT('Shareholding Pattern'!O50),('Shareholding Pattern'!O50),""),"") | ... V14: =+IFERROR(IF(COUNT('Shareholding Pattern'!W50),('Shareholding Pattern'!W50),""),"") | Y14: =+IFERROR(IF(COUNT('Shareholding Pattern'!Z50),('Shareholding Pattern'!Z50),""),"") -> 3191433
E15: (C) | F15: Non Promoter- Non Public | G15: =+IFERROR(IF(COUNT('Shareholding Pattern'!H56),('Shareholding Pattern'!H56),""),"") | H15: =+IFERROR(IF(COUNT('Shareholding Pattern'!I56),('Shareholding Pattern'!I56),""),"") | I15: =+IFERROR(IF(COUNT('Shareholding Pattern'!J56),('Shareholding Pattern'!J56),""),"") | J15: =+IFERROR(IF(COUNT('Shareholding Pattern'!K56),('Shareholding Pattern'!K56),""),"") | K15: =+IFERROR(IF(COUNT('Shareholding Pattern'!L56),('Shareholding Pattern'!L56),""),"") | M15: =+IFERROR(IF(COUNT('Shareholding Pattern'!N56),('Shareholding Pattern'!N56),""),"") | N15: =+IFERROR(IF(COUNT('Shareholding Pattern'!O56),('Shareholding Pattern'!O56),""),"") | O15: =+IFERROR(IF(COUNT('Shareholding Pattern'!P56),('Shareholding Pattern'!P56),""),"") | P15: =+IFERROR(IF(COUNT('Shareholding Pattern'!Q56),('Shareholding Pattern'!Q56),""),"") | Q15: =+IFERROR(IF(COUNT('Shareholding Pattern'!R56),('Shareholding Pattern'!R56),""),"") | R15: =+IFERROR(IF(COUNT('Shareholding Pattern'!S56),('Shareholding Pattern'!S56),""),"") | S15: =+IFERROR(IF(COUNT('Shareholding Pattern'!T56),('Shareholding Pattern'!T56),""),"") | U15: =+IFERROR(IF(COUNT('Shareholding Pattern'!V56),('Shareholding Pattern'!V56),""),"") | V15: =+IFERROR(IF(COUNT('Shareholding Pattern'!W56),('Shareholding Pattern'!W56),""),"") | Y15: =+IFERROR(IF(COUNT('Shareholding Pattern'!Z56),('Shareholding Pattern'!Z56),""),"")
E16: (C1) | F16: Shares underlying DRs | G16: =+IFERROR(IF(COUNT('Shareholding Pattern'!H54),('Shareholding Pattern'!H54),""),"") | H16: =+IFERROR(IF(COUNT('Shareholding Pattern'!I54),('Shareholding Pattern'!I54),""),"") | I16: =+IFERROR(IF(COUNT('Shareholding Pattern'!J54),('Shareholding Pattern'!J54),""),"") | J16: =+IFERROR(IF(COUNT('Shareholding Pattern'!K54),('Shareholding Pattern'!K54),""),"") | K16: =+IFERROR(IF(COUNT('Shareholding Pattern'!L54),('Shareholding Pattern'!L54),""),"") | M16: =+IFERROR(IF(COUNT('Shareholding Pattern'!N54),('Shareholding Pattern'!N54),""),"") | N16: =+IFERROR(IF(COUNT('Shareholding Pattern'!O54),('Shareholding Pattern'!O54),""),"") | O16: =+IFERROR(IF(COUNT('Shareholding Pattern'!P54),('Shareholding Pattern'!P54),""),"") | P16: =+IFERROR(IF(COUNT('Shareholding Pattern'!Q54),('Shareholding Pattern'!Q54),""),"") | Q16: =+IFERROR(IF(COUNT('Shareholding Pattern'!R54),('Shareholding Pattern'!R54),""),"") | R16: =+IFERROR(IF(COUNT('Shareholding Pattern'!S54),('Shareholding Pattern'!S54),""),"") | S16: =+IFERROR(IF(COUNT('Shareholding Pattern'!T54),('Shareholding Pattern'!T54),""),"") | U16: =+IFERROR(IF(COUNT('Shareholding Pattern'!V54),('Shareholding Pattern'!V54),""),"") | V16: =+IFERROR(IF(COUNT('Shareholding Pattern'!W54),('Shareholding Pattern'!W54),""),"") | Y16: =+IFERROR(IF(COUNT('Shareholding Pattern'!Z54),('Shareholding Pattern'!Z54),""),"")
E17: (C2) | F17: Shares held by Employee Trusts | G17: =+IFERROR(IF(COUNT('Shareholding Pattern'!H55),('Shareholding Pattern'!H55),""),"") | H17: =+IFERROR(IF(COUNT('Shareholding Pattern'!I55),('Shareholding Pattern'!I55),""),"") | I17: =+IFERROR(IF(COUNT('Shareholding Pattern'!J55),('Shareholding Pattern'!J55),""),"") | J17: =+IFERROR(IF(COUNT('Shareholding Pattern'!K55),('Shareholding Pattern'!K55),""),"") | K17: =+IFERROR(IF(COUNT('Shareholding Pattern'!L55),('Shareholding Pattern'!L55),""),"") | L17: =+IFERROR(IF(COUNT('Shareholding Pattern'!M55),('Shareholding Pattern'!M55),""),"") | M17: =+IFERROR(IF(COUNT('Shareholding Pattern'!N55),('Shareholding Pattern'!N55),""),"") | N17: =+IFERROR(IF(COUNT('Shareholding Pattern'!O55),('Shareholding Pattern'!O55),""),"") | ... V17: =+IFERROR(IF(COUNT('Shareholding Pattern'!W55),('Shareholding Pattern'!W55),""),"") | Y17: =+IFERROR(IF(COUNT('Shareholding Pattern'!Z55),('Shareholding Pattern'!Z55),""),"")
F18: Total | G18: =+IFERROR(IF(COUNT('Shareholding Pattern'!H58),('Shareholding Pattern'!H58),""),"") -> 5643 | H18: =+IFERROR(IF(COUNT('Shareholding Pattern'!I58),('Shareholding Pattern'!I58),""),"") -> 10000000 | I18: =+IFERROR(IF(COUNT('Shareholding Pattern'!J58),('Shareholding Pattern'!J58),""),"") | J18: =+IFERROR(IF(COUNT('Shareholding Pattern'!K58),('Shareholding Pattern'!K58),""),"") | K18: =+IFERROR(IF(COUNT('Shareholding Pattern'!L58),('Shareholding Pattern'!L58),""),"") -> 10000000 | L18: =+IFERROR(IF(COUNT('Shareholding Pattern'!M58),('Shareholding Pattern'!M58),""),"") -> 100 | M18: =+IFERROR(IF(COUNT('Shareholding Pattern'!N58),('Shareholding Pattern'!N58),""),"") -> 10000000 | N18: =+IFERROR(IF(COUNT('Shareholding Pattern'!O58),('Shareholding Pattern'!O58),""),"") | ... Y18: =+IFERROR(IF(COUNT('Shareholding Pattern'!Z58),('Shareholding Pattern'!Z58),""),"") -> 7572830

Sheet Taxonomy
A1: element | B1: label | C1: type | D1: periodType | E1: Validation
A2: General Information
A3: ScripCode | B3: Scrip code | C3: in-bse-shp-types:ScripCode | D3: duration | E3: This is a mandatory field. Should be valid SCRIP CODE as per BSE Scrip Code Format.
A4: Symbol | B4: NSE Symbol | C4: xbrli:stringItemType | D4: duration
A5: MSEISymbol | B5: MSEI Symbol | C5: xbrli:stringItemType | D5: duration
A6: ISIN | B6: ISIN | C6: in-bse-shp-types:ISIN | D6: duration
A7: NameOfTheCompany | B7: Name of the company | C7: xbrli:stringItemType | D7: duration | E7: This is a mandatory field. Please enter company name.
A8: WhetherCompanyIsSME | B8: Whether company is SME | C8: xbrli:booleanItemType | D8: instant | E8: This is a mandatory field. Value must be "Yes" or "No", Select from drop down list.
A9: ClassOfSecurity | B9: Class of Security | C9: in-bse-shp-types:ClassOfSecurity | D9: duration
A10: TypeOfReport | B10: Type of report | C10: in-bse-shp-types:TypeOfReport | D10: duration | E10: This is a mandatory field. Please select value from the drop-down.
A11: DateOfReport | B11: Quarter Ended / Half year ended/Date of Report (For Prelisting / Allotment) | C11: xbrli:dateItemType | D11: instant | E11: This is a mandatory field if you select type of report as "Quarterly". Please enter date in "dd-mm-yyyy" format.
A12: DateOfAllotment | B12: DateOfAllotment | C12: xbrli:dateItemType | D12: instant | E12: This is a mandatory field if you select type of report as "Pre-listing" or "Capital Restructuring". Please enter date in "dd-mm-yyyy" format.
A13: DateOfListing | B13: DateOfListing | C13: xbrli:dateItemType | D13: instant
A14: DateOfAllotmentOrListing | B14: Date of allotment / extinguishment (in case Capital Restructuring selected) / Listing Date | C14: xbrli:dateItemType | D14: instant
A15: ShareholdingPatternFiledUnder | B15: Shareholding pattern filed under | C15: in-bse-shp-types:TypeOfShareholdingPattern | D15: duration
A16: Declaration
A17: WhetherTheListedEntityHasIssuedAnyPartlyPaidUpShares | B17: Partly Paid Up Shares | C17: xbrli:booleanItemType | D17: instant
A18: WhetherTheListedEntityHasIssuedAnyPartlyPaidUpSharesForPromoterAndPromoterGroup | B18: Partly Paid Up Shares PPG | C18: xbrli:booleanItemType | D18: instant
A19: WhetherTheListedEntityHasIssuedAnyPartlyPaidUpSharesForPublicShareHolder | B19: Partly Paid Up Shares Public | C19: xbrli:booleanItemType | D19: instant
A20: WhetherTheListedEntityHasIssuedAnyPartlyPaidUpSharesForNonPromoterNonPublic | B20: Partly Paid Up Shares NPNP | C20: xbrli:booleanItemType | D20: instant
A21: WhetherTheListedEntityHasIssuedAnyConvertibleSecurities | B21: Convertible Securities | C21: xbrli:booleanItemType | D21: instant
A22: WhetherTheListedEntityHasIssuedAnyConvertibleSecuritiesForPromoterAndPromoterGroup | B22: Convertible Securities PPG | C22: xbrli:booleanItemType | D22: instant
A23: WhetherTheListedEntityHasIssuedAnyConvertibleSecuritiesForPublicShareHolder | B23: Convertible Securities Public | C23: xbrli:booleanItemType | D23: instant
A24: WhetherTheListedEntityHasIssuedAnyConvertibleSecuritiesForNonPromoterNonPublic | B24: Convertible Securities NPNP | C24: xbrli:booleanItemType | D24: instant
A25: WhetherTheListedEntityHasIssuedAnyWarrants | B25: Warrants | C25: xbrli:booleanItemType | D25: instant
A26: WhetherTheListedEntityHasIssuedAnyWarrantsForPromoterAndPromoterGroup | B26: Warrants PPG | C26: xbrli:booleanItemType | D26: instant
A27: WhetherTheListedEntityHasIssuedAnyWarrantsForPublicShareHolder | B27: Warrants Public | C27: xbrli:booleanItemType | D27: instant
A28: WhetherTheListedEntityHasIssuedAnyWarrantsForNonPromoterNonPublic | B28: Warrants NPNP | C28: xbrli:booleanItemType | D28: instant
... A44: WhetherCompanyHasEquitySharesWithDifferentialVotingRightsForNonPromoterNonPublic | B44: Voting Rights NPNP | C44: xbrli:booleanItemType | D44: instant
A45: Shareholding Pattern
A46: IndividualsOrHinduUndividedFamilyMember | B46: Individuals or Hindu undivided family [Member] | C46: nonnum:domainItemType | D46: duration
A47: CentralGovernmentOrStateGovernmentSMember | B47: Central government or State government(s) [Member] | C47: nonnum:domainItemType | D47: duration
A48: IndianFinancialInstitutionsOrBanksMember | B48: Indian - financial institutions or banks [Member] | C48: nonnum:domainItemType | D48: duration
A49: OtherIndianShareholdersMember | B49: Other Indian shareholders [Member] | C49: nonnum:domainItemType | D49: duration
A50: IndianMember | B50: Indian [Member] | C50: nonnum:domainItemType | D50: duration
A51: NonResidentIndividualsOrForeignIndividualsMember | B51: Non-resident individuals or foreign individuals [Member] | C51: nonnum:domainItemType | D51: duration
A52: ForeignGovernmentMember | B52: Foreign - Government [Member] | C52: nonnum:domainItemType | D52: duration
A53: ForeignInstitutionsMember | B53: Foreign - institutions [Member] | C53: nonnum:domainItemType | D53: duration
A54: ForeignPortfolioInvestorMember | B54: Foreign portfolio investor [Member] | C54: nonnum:domainItemType | D54: duration
A55: OtherForeignShareholdersMember | B55: Other foreign shareholders [Member] | C55: nonnum:domainItemType | D55: duration
...

Sheet Shareholding Pattern
H2: Number of shareholders | I2: Number of fully paid up equity shares | J2: Number of partly paid-up equity shares | K2: Number of shares underlying outstanding depository receipts | L2: Total number of shares | M2: Shareholding as a percentage of total number of shares held by promoters and public shareholders and custodians or DR holders | N2: Number of voting rights held by same class of securities | O2: Number of voting rights held by differential voting rights | P2: Total Number of voting rights | Q2: Percentage of total number of voting rights | R2: Number of shares underlying outstanding convertible securities | S2: Number of warrant | T2: Number of warrant and convertible securities | U2: Total shareholding as a percentage assuming full conversion of convertible securities | V2: Number of the locked-in-shares | W2: Locked-in-shares as a percentage of total number of shares | X2: Pledged or encumbered - number of shares | Y2: Pledged or encumbered shares held as percentage of total number of shares | Z2: Number of equity shares held in dematerialized form
E9: Sr. | F9: Category & Name of the Shareholders (I) | H9: Nos. Of shareholders (III) | I9: No. of fully paid up equity shares held (IV) | J9: No. Of Partly paid-up equity shares held (V) | K9: No. Of shares underlying Depository Receipts (VI) | L9: Total nos. shares held (VII) = (IV)+(V)+ (VI) | M9: Shareholding as a % of total no. of shares (calculated as per SCRR, 1957) (VIII) As a % of (A+B+C2) | N9: Number of Voting Rights held in each class of securities (IX) | R9: No. Of Shares Underlying Outstanding convertible securities (X) | S9: No. of Shares Underlying Outstanding Warrants (Xi) | T9: No. Of Shares Underlying Outstanding convertible securities and No. Of Warrants (Xi) (a) | U9: Shareholding , as a % assuming full conversion of convertible securities ( as a percentage of diluted share capital) (XI)= (VII)+(X) As a % of (A+B+C2) | V9: Number of Locked in shares (XII) | X9: Number of Shares pledged or otherwise encumbered (XIII) | Z9: Number of equity shares held in dematerialized form (XIV)
N10: No of Voting (XIV) Rights | Q10: Total as a % of Total Voting rights
N11: Class eg: X | O11: Class eg:y | P11: Total | V11: No. (a) | W11: As a % of total Shares held (b) | X11: No. (a) | Y11: As a % of total Shares held (b)
E12: A | F12: Table II - Statement showing shareholding pattern of the Promoter and Promoter Group
E13: (1) | F13: Indian
E14: (a) | F14: Individuals/Hindu undivided Family | H14: 1 | I14: 1930953 | J14: =+IF(COUNT(IndHUF!I17),IndHUF!I17,"") | K14: =+IF(COUNT(IndHUF!J17),IndHUF!J17,"") | L14: 1930953 | M14: =+IFERROR(IF(COUNT(L14),ROUND(L14/'Shareholding Pattern'!$L$57*100,2),""),0) -> 19.31 | N14: 1930953 | O14: =+IF(COUNT(+IndHUF!N17),SUM(+IndHUF!N17),"") | P14: 1930953 | Q14: 19.31 | R14: =+IF(COUNT(IndHUF!Q17),IndHUF!Q17,"") | S14: =+IF(COUNT(IndHUF!R17),IndHUF!R17,"") | T14: =+IF(COUNT(IndHUF!S17),IndHUF!S17,"") | U14: =+IFERROR(IF(COUNT(L14,T14),ROUND(SUM(L14,T14)/SUM('Shareholding Pattern'!$L$57,'Shareholding Pattern'!$T$57)*100,2),""),0) -> 19.31 | V14: =+IF(COUNT(IndHUF!U17),IndHUF!U17,"") | W14: =+IFERROR(IF(COUNT(V14),ROUND(SUM(V14)/SUM(L14)*100,2),""),0) | X14: =+IF(COUNT(IndHUF!W17),IndHUF!W17,"") | Y14: =+IFERROR(IF(COUNT(X14),ROUND(SUM(X14)/SUM(L14)*100,2),""),0) | Z14: 1930953 | AR14: Individuals or Hindu undivided family [Member] | AX14: IndHUF | AZ14: IndividualsOrHUFDomain | BF14: DetailsSharesHeldByIndividualsOrHUFAxis
E15: (b) | F15: Central Government/ State Government(s) | H15: =IFERROR(IF(COUNT(CGAndSG!$AD$13),IF(CGAndSG!$AD$13=0,"0",CGAndSG!$AD$13),""),"") | I15: =IFERROR(IF(COUNT(CGAndSG!H16),(CGAndSG!H16),""),"") | J15: =IFERROR(IF(COUNT(CGAndSG!I16),(CGAndSG!I16),""),"") | K15: =IFERROR(IF(COUNT(CGAndSG!J16),(CGAndSG!J16),""),"") | L15: =IFERROR(IF(COUNT(CGAndSG!K16),(CGAndSG!K16),""),"") | M15: =+IFERROR(IF(COUNT(L15),ROUND(L15/'Shareholding Pattern'!$L$57*100,2),""),0) | N15: =IFERROR(IF(COUNT(CGAndSG!M16),(CGAndSG!M16),""),"") | O15: =IFERROR(IF(COUNT(CGAndSG!N16),(CGAndSG!N16),""),"") | P15: =IFERROR(IF(COUNT(CGAndSG!O16),(CGAndSG!O16),""),"") | Q15: =IFERROR(IF(COUNT(CGAndSG!P16),(CGAndSG!P16),""),0) | R15: =IFERROR(IF(COUNT(CGAndSG!Q16),(CGAndSG!Q16),""),"") | S15: =IFERROR(IF(COUNT(CGAndSG!R16),(CGAndSG!R16),""),"") | T15: =IFERROR(IF(COUNT(CGAndSG!S16),(CGAndSG!S16),""),"") | U15: =+IFERROR(IF(COUNT(L15,T15),ROUND(SUM(L15,T15)/SUM('Shareholding Pattern'!$L$57,'Shareholding Pattern'!$T$57)*100,2),""),0) | V15: =IFERROR(IF(COUNT(CGAndSG!U16),(CGAndSG!U16),""),"") | W15: =+IFERROR(IF(COUNT(V15),ROUND(SUM(V15)/SUM(L15)*100,2),""),0) | X15: =IFERROR(IF(COUNT(CGAndSG!W16),(CGAndSG!W16),""),"") | Y15: =+IFERROR(IF(COUNT(X15),ROUND(SUM(X15)/SUM(L15)*100,2),""),0) | Z15: =IFERROR(IF(COUNT(CGAndSG!Y16),(CGAndSG!Y16),""),"") | AR15: Central government or State government(s) [Member] | AX15: CGAndSG | AZ15: CentralGovernmentOrStateGovernmentsDomain | BF15: DetailsOfSharesHeldByCentralGovernmentOrStateGovernmentsAxis
E16: (c) | F16: Financial Institutions/ Banks | H16: =IFERROR(IF(COUNT(Banks!$AD$13),IF(Banks!$AD$13=0,"0",Banks!$AD$13),""),"") | I16: =IFERROR(IF(COUNT(Banks!H16),(Banks!H16),""),"") | J16: =IFERROR(IF(COUNT(Banks!I16),(Banks!I16),""),"") | K16: =IFERROR(IF(COUNT(Banks!J16),(Banks!J16),""),"") | L16: =IFERROR(IF(COUNT(Banks!K16),(Banks!K16),""),"") | M16: =+IFERROR(IF(COUNT(L16),ROUND(L16/'Shareholding Pattern'!$L$57*100,2),""),0) | N16: =IFERROR(IF(COUNT(Banks!M16),(Banks!M16),""),"") | O16: =IFERROR(IF(COUNT(Banks!N16),(Banks!N16),""),"") | P16: =IFERROR(IF(COUNT(Banks!O16),(Banks!O16),""),"") | Q16: =IFERROR(IF(COUNT(Banks!P16),(Banks!P16),""),0) | R16: =IFERROR(IF(COUNT(Banks!Q16),(Banks!Q16),""),"") | S16: =IFERROR(IF(COUNT(Banks!R16),(Banks!R16),""),"") | T16: =IFERROR(IF(COUNT(Banks!S16),(Banks!S16),""),"") | U16: =+IFERROR(IF(COUNT(L16,T16),ROUND(SUM(L16,T16)/SUM('Shareholding Pattern'!$L$57,'Shareholding Pattern'!$T$57)*100,2),""),0) | V16: =IFERROR(IF(COUNT(Banks!U16),(Banks!U16),""),"") | W16: =+IFERROR(IF(COUNT(V16),ROUND(SUM(V16)/SUM(L16)*100,2),""),0) | X16: =IFERROR(IF(COUNT(Banks!W16),(Banks!W16),""),"") | Y16: =+IFERROR(IF(COUNT(X16),ROUND(SUM(X16)/SUM(L16)*100,2),""),0) | Z16: =IFERROR(IF(COUNT(Banks!Y16),(Banks!Y16),""),"") | AR16: Indian - financial institutions or banks [Member] | AX16: Banks | AZ16: IndianFinancialInstitutionsOrBanksDomain | BF16: DetailsOfSharesHeldByIndianFinancialInstitutionsOrBanksAxis
E17: (d) | F17: Any Other (specify) | H17: 1 | I17: 2450444 | J17: =IFERROR(IF(COUNT(OtherIND!K17),(OtherIND!K17),""),"") | K17: =IFERROR(IF(COUNT(OtherIND!L17),(OtherIND!L17),""),"") | L17: 2450444 | M17: =+IFERROR(IF(COUNT(L17),ROUND(L17/'Shareholding Pattern'!$L$57*100,2),""),0) -> 24.5 | N17: 2450444 | O17: =IFERROR(IF(COUNT(OtherIND!P17),(OtherIND!P17),""),"") | P17: 2450444 | Q17: 24.5 | R17: =IFERROR(IF(COUNT(OtherIND!S17),(OtherIND!S17),""),"") | S17: =IFERROR(IF(COUNT(OtherIND!T17),(OtherIND!T17),""),"") | T17: =IFERROR(IF(COUNT(OtherIND!U17),(OtherIND!U17),""),"") | U17: =+IFERROR(IF(COUNT(L17,T17),ROUND(SUM(L17,T17)/SUM('Shareholding Pattern'!$L$57,'Shareholding Pattern'!$T$57)*100,2),""),0) -> 24.5 | V17: =IFERROR(IF(COUNT(OtherIND!W17),(OtherIND!W17),""),"") | W17: =+IFERROR(IF(COUNT(V17),ROUND(SUM(V17)/SUM(L17)*100,2),""),0) | X17: =IFERROR(IF(COUNT(OtherIND!Y17),(OtherIND!Y17),""),"") | Y17: =+IFERROR(IF(COUNT(X17),ROUND(SUM(X17)/SUM(L17)*100,2),""),0) | Z17: 2450444 | AR17: Other Indian shareholders [Member] | AX17: OtherIND | AZ17: OthersIndianShareholdersDomain | BF17: DetailsOfSharesHeldByOthersIndianShareholdersAxis
E18: Sub-Total (A)(1) | H18: =+IFERROR(IF(COUNT(H14:H17),ROUND(SUM(H14:H17),0),""),"") -> 2 | I18: =+IFERROR(IF(COUNT(I14:I17),ROUND(SUM(I14:I17),0),""),"") -> 4381397 | J18: =+IFERROR(IF(COUNT(J14:J17),ROUND(SUM(J14:J17),0),""),"") | K18: =+IFERROR(IF(COUNT(K14:K17),ROUND(SUM(K14:K17),0),""),"") | L18: =+IFERROR(IF(COUNT(L14:L17),ROUND(SUM(L14:L17),0),""),"") -> 4381397 | M18: =+IFERROR(IF(COUNT(L18),ROUND(L18/'Shareholding Pattern'!$L$57*100,2),""),0) -> 43.81 | N18: =+IFERROR(IF(COUNT(N14:N17),ROUND(SUM(N14:N17),0),""),"") -> 4381397 | O18: =+IFERROR(IF(COUNT(O14:O17),ROUND(SUM(O14:O17),0),""),"") | P18: =+IFERROR(IF(COUNT(P14:P17),ROUND(SUM(P14:P17),0),""),"") -> 4381397 | Q18: =IFERROR(IF(COUNT(P18),ROUND(P18/$P$58*100,2),""),0) -> 43.81 | R18: =+IFERROR(IF(COUNT(R14:R17),ROUND(SUM(R14:R17),0),""),"") | S18: =+IFERROR(IF(COUNT(S14:S17),ROUND(SUM(S14:S17),0),""),"") | T18: =+IFERROR(IF(COUNT(T14:T17),ROUND(SUM(T14:T17),0),""),"") | U18: =+IFERROR(IF(COUNT(L18,T18),ROUND(SUM(L18,T18)/SUM('Shareholding Pattern'!$L$57,'Shareholding Pattern'!$T$57)*100,2),""),0) -> 43.81 | V18: =+IFERROR(IF(COUNT(V14:V17),ROUND(SUM(V14:V17),0),""),"") | W18: =+IFERROR(IF(COUNT(V18),ROUND(SUM(V18)/SUM(L18)*100,2),""),0) | X18: =+IFERROR(IF(COUNT(X14:X17),ROUND(SUM(X14:X17),0),""),"") | Y18: =+IFERROR(IF(COUNT(X18),ROUND(SUM(X18)/SUM(L18)*100,2),""),0) | Z18: =+IFERROR(IF(COUNT(Z14:Z17),ROUND(SUM(Z14:Z17),0),""),"") -> 4381397 | AR18: Indian [Member] | AX18: Individuals | AZ18: NonResidentIndividualsOrForeignIndividualsDomain | BF18: DetailsOfSharesHeldByNonResidentIndividualsOrForeignIndividualsAxis
E19: (2) | F19: Foreign | AX19: Government | AZ19: ForeignGovernmentDomain | BF19: DetailsOfSharesHeldByForeignGovernmentAxis
E20: (a) | F20: Individuals (NonResident Individuals/ Foreign Individuals) | H20: =IFERROR(IF(COUNT(Individuals!$AD$13),IF(Individuals!$AD$13=0,"0",Individuals!$AD$13),""),"") | I20: =IFERROR(IF(COUNT(Individuals!H16),(Individuals!H16),""),"") | J20: =IFERROR(IF(COUNT(Individuals!I16),(Individuals!I16),""),"") | K20: =IFERROR(IF(COUNT(Individuals!J16),(Individuals!J16),""),"") | L20: =IFERROR(IF(COUNT(Individuals!K16),(Individuals!K16),""),"") | M20: =+IFERROR(IF(COUNT(L20),ROUND(L20/'Shareholding Pattern'!$L$57*100,2),""),0) | N20: =IFERROR(IF(COUNT(Individuals!M16),(Individuals!M16),""),"") | O20: =IFERROR(IF(COUNT(Individuals!N16),(Individuals!N16),""),"") | P20: =IFERROR(IF(COUNT(Individuals!O16),(Individuals!O16),""),"") | Q20: =IFERROR(IF(COUNT(Individuals!P16),(Individuals!P16),""),0) | R20: =IFERROR(IF(COUNT(Individuals!Q16),(Individuals!Q16),""),"") | S20: =IFERROR(IF(COUNT(Individuals!R16),(Individuals!R16),""),"") | T20: =IFERROR(IF(COUNT(Individuals!S16),(Individuals!S16),""),"") | U20: =+IFERROR(IF(COUNT(L20,T20),ROUND(SUM(L20,T20)/SUM('Shareholding Pattern'!$L$57,'Shareholding Pattern'!$T$57)*100,2),""),0) | V20: =IFERROR(IF(COUNT(Individuals!U16),(Individuals!U16),""),"") | W20: =+IFERROR(IF(COUNT(V20),ROUND(SUM(V20)/SUM(L20)*100,2),""),0) | X20: =IFERROR(IF(COUNT(Individuals!W16),(Individuals!W16),""),"") | Y20: =+IFERROR(IF(COUNT(X20),ROUND(SUM(X20)/SUM(L20)*100,2),""),0) | Z20: =IFERROR(IF(COUNT(Individuals!Y16),(Individuals!Y16),""),"") | AR20: Non-resident individuals or foreign individuals [Member] | AX20: Institutions | AZ20: ForeignInstitutionsDomain | BF20: DetailsOfSharesHeldByForeignInstitutionsAxis
E21: (b) | F21: Government | H21: =IFERROR(IF(COUNT(Government!$AD$13),IF(Government!$AD$13=0,"0",Government!$AD$13),""),"") | I21: =IFERROR(IF(COUNT(Government!H16),(Government!H16),""),"") | J21: =IFERROR(IF(COUNT(Government!I16),(Government!I16),""),"") | K21: =IFERROR(IF(COUNT(Government!J16),(Government!J16),""),"") | L21: =IFERROR(IF(COUNT(Government!K16),(Government!K16),""),"") | M21: =+IFERROR(IF(COUNT(L21),ROUND(L21/'Shareholding Pattern'!$L$57*100,2),""),0) | N21: =IFERROR(IF(COUNT(Government!M16),(Government!M16),""),"") | O21: =IFERROR(IF(COUNT(Government!N16),(Government!N16),""),"") | P21: =IFERROR(IF(COUNT(Government!O16),(Government!O16),""),"") | Q21: =IFERROR(IF(COUNT(Government!P16),(Government!P16),""),0) | R21: =IFERROR(IF(COUNT(Government!Q16),(Government!Q16),""),"") | S21: =IFERROR(IF(COUNT(Government!R16),(Government!R16),""),"") | T21: =IFERROR(IF(COUNT(Government!S16),(Government!S16),""),"") | U21: =+IFERROR(IF(COUNT(L21,T21),ROUND(SUM(L21,T21)/SUM('Shareholding Pattern'!$L$57,'Shareholding Pattern'!$T$57)*100,2),""),0) | V21: =IFERROR(IF(COUNT(Government!U16),(Government!U16),""),"") | W21: =+IFERROR(IF(COUNT(V21),ROUND(SUM(V21)/SUM(L21)*100,2),""),0) | X21: =IFERROR(IF(COUNT(Government!W16),(Government!W16),""),"") | Y21: =+IFERROR(IF(COUNT(X21),ROUND(SUM(X21)/SUM(L21)*100,2),""),0) | Z21: =IFERROR(IF(COUNT(Government!Y16),(Government!Y16),""),"") | AR21: Foreign - Government [Member] | AX21: FPIPromoter | AZ21: ForeignPortfolioInvestorDomain | BF21: DetailsOfSharesHeldByForeignPortfolioInvestorAxis
E22: (c) | F22: Institutions | H22: =IFERROR(IF(COUNT(Institutions!$AD$13),IF(Institutions!$AD$13=0,"0",Institutions!$AD$13),""),"") | I22: =IFERROR(IF(COUNT(Institutions!H16),(Institutions!H16),""),"") | J22: =IFERROR(IF(COUNT(Institutions!I16),(Institutions!I16),""),"") | K22: =IFERROR(IF(COUNT(Institutions!J16),(Institutions!J16),""),"") | L22: =IFERROR(IF(COUNT(Institutions!K16),(Institutions!K16),""),"") | M22: =+IFERROR(IF(COUNT(L22),ROUND(L22/'Shareholding Pattern'!$L$57*100,2),""),0) | N22: =IFERROR(IF(COUNT(Institutions!M16),(Institutions!M16),""),"") | O22: =IFERROR(IF(COUNT(Institutions!N16),(Institutions!N16),""),"") | P22: =IFERROR(IF(COUNT(Institutions!O16),(Institutions!O16),""),"") | Q22: =IFERROR(IF(COUNT(Institutions!P16),(Institutions!P16),""),0) | R22: =IFERROR(IF(COUNT(Institutions!Q16),(Institutions!Q16),""),"") | S22: =IFERROR(IF(COUNT(Institutions!R16),(Institutions!R16),""),"") | T22: =IFERROR(IF(COUNT(Institutions!S16),(Institutions!S16),""),"") | U22: =+IFERROR(IF(COUNT(L22,T22),ROUND(SUM(L22,T22)/SUM('Shareholding Pattern'!$L$57,'Shareholding Pattern'!$T$57)*100,2),""),0) | V22: =IFERROR(IF(COUNT(Institutions!U16),(Institutions!U16),""),"") | W22: =+IFERROR(IF(COUNT(V22),ROUND(SUM(V22)/SUM(L22)*100,2),""),0) | X22: =IFERROR(IF(COUNT(Institutions!W16),(Institutions!W16),""),"") | Y22: =+IFERROR(IF(COUNT(X22),ROUND(SUM(X22)/SUM(L22)*100,2),""),0) | Z22: =IFERROR(IF(COUNT(Institutions!Y16),(Institutions!Y16),""),"") | AR22: Foreign - institutions [Member] | AX22: OtherForeign | AZ22: OtherForeignShareholdersDomain | BF22: DetailsOfSharesHeldByOtherForeignShareholdersAxis
E23: (d) | F23: Foreign Portfolio Investor | H23: =IFERROR(IF(COUNT(FPIPromoter!$AD$13),IF(FPIPromoter!$AD$13=0,"0",FPIPromoter!$AD$13),""),"") | I23: =IFERROR(IF(COUNT(FPIPromoter!H16),(FPIPromoter!H16),""),"") | J23: =IFERROR(IF(COUNT(FPIPromoter!I16),(FPIPromoter!I16),""),"") | K23: =IFERROR(IF(COUNT(FPIPromoter!J16),(FPIPromoter!J16),""),"") | L23: =IFERROR(IF(COUNT(FPIPromoter!K16),(FPIPromoter!K16),""),"") | M23: =+IFERROR(IF(COUNT(L23),ROUND(L23/'Shareholding Pattern'!$L$57*100,2),""),0) | N23: =IFERROR(IF(COUNT(FPIPromoter!M16),(FPIPromoter!M16),""),"") | O23: =IFERROR(IF(COUNT(FPIPromoter!N16),(FPIPromoter!N16),""),"") | P23: =IFERROR(IF(COUNT(FPIPromoter!O16),(FPIPromoter!O16),""),"") | Q23: =IFERROR(IF(COUNT(FPIPromoter!P16),(FPIPromoter!P16),""),0) | R23: =IFERROR(IF(COUNT(FPIPromoter!Q16),(FPIPromoter!Q16),""),"") | S23: =IFERROR(IF(COUNT(FPIPromoter!R16),(FPIPromoter!R16),""),"") | T23: =IFERROR(IF(COUNT(FPIPromoter!S16),(FPIPromoter!S16),""),"") | U23: =+IFERROR(IF(COUNT(L23,T23),ROUND(SUM(L23,T23)/SUM('Shareholding Pattern'!$L$57,'Shareholding Pattern'!$T$57)*100,2),""),0) | V23: =IFERROR(IF(COUNT(FPIPromoter!U16),(FPIPromoter!U16),""),"") | W23: =+IFERROR(IF(COUNT(V23),ROUND(SUM(V23)/SUM(L23)*100,2),""),0) | X23: =IFERROR(IF(COUNT(FPIPromoter!W16),(FPIPromoter!W16),""),"") | Y23: =+IFERROR(IF(COUNT(X23),ROUND(SUM(X23)/SUM(L23)*100,2),""),0) | Z23: =IFERROR(IF(COUNT(FPIPromoter!Y16),(FPIPromoter!Y16),""),"") | AR23: Foreign portfolio investor [Member] | AX23: MutuaFund | AZ23: MutualFundsOrUtiDomain | BF23: DetailsOfSharesHeldByMutualFundsOrUtiAxis
E24: (e) | F24: Any Other (specify) | H24: =IFERROR(IF(COUNT(OtherForeign!$AG$13),IF(OtherForeign!$AG$13=0,"0",OtherForeign!$AG$13),""),"") | I24: =IFERROR(IF(COUNT(OtherForeign!J16),(OtherForeign!J16),""),"") | J24: =IFERROR(IF(COUNT(OtherForeign!K16),(OtherForeign!K16),""),"") | K24: =IFERROR(IF(COUNT(OtherForeign!L16),(OtherForeign!L16),""),"") | L24: =IFERROR(IF(COUNT(OtherForeign!M16),(OtherForeign!M16),""),"") | M24: =+IFERROR(IF(COUNT(L24),ROUND(L24/'Shareholding Pattern'!$L$57*100,2),""),0) | N24: =IFERROR(IF(COUNT(OtherForeign!O16),(OtherForeign!O16),""),"") | O24: =IFERROR(IF(COUNT(OtherForeign!P16),(OtherForeign!P16),""),"") | P24: =IFERROR(IF(COUNT(OtherForeign!Q16),(OtherForeign!Q16),""),"") | Q24: =IFERROR(IF(COUNT(OtherForeign!R16),(OtherForeign!R16),""),0) | R24: =IFERROR(IF(COUNT(OtherForeign!S16),(OtherForeign!S16),""),"") | S24: =IFERROR(IF(COUNT(OtherForeign!T16),(OtherForeign!T16),""),"") | T24: =IFERROR(IF(COUNT(OtherForeign!U16),(OtherForeign!U16),""),"") | U24: =+IFERROR(IF(COUNT(L24,T24),ROUND(SUM(L24,T24)/SUM('Shareholding Pattern'!$L$57,'Shareholding Pattern'!$T$57)*100,2),""),0) | V24: =IFERROR(IF(COUNT(OtherForeign!W16),(OtherForeign!W16),""),"") | W24: =+IFERROR(IF(COUNT(V24),ROUND(SUM(V24)/SUM(L24)*100,2),""),0) | X24: =IFERROR(IF(COUNT(OtherForeign!Y16),(OtherForeign!Y16),""),"") | Y24: =+IFERROR(IF(COUNT(X24),ROUND(SUM(X24)/SUM(L24)*100,2),""),0) | Z24: =IFERROR(IF(COUNT(OtherForeign!AA16),(OtherForeign!AA16),""),"") | AR24: Other foreign shareholders [Member] | AX24: VentureCap | AZ24: VentureCapitalFundsDomain | BF24: DetailsOfSharesHeldByVentureCapitalFundsAxis
E25: Sub-Total (A)(2) | H25: =+IFERROR(IF(COUNT(H20:H24),ROUND(SUM(H20:H24),0),""),"") | I25: =+IFERROR(IF(COUNT(I20:I24),ROUND(SUM(I20:I24),0),""),"") | J25: =+IFERROR(IF(COUNT(J20:J24),ROUND(SUM(J20:J24),0),""),"") | K25: =+IFERROR(IF(COUNT(K20:K24),ROUND(SUM(K20:K24),0),""),"") | L25: =+IFERROR(IF(COUNT(L20:L24),ROUND(SUM(L20:L24),0),""),"") | M25: =+IFERROR(IF(COUNT(L25),ROUND(L25/'Shareholding Pattern'!$L$57*100,2),""),0) | N25: =+IFERROR(IF(COUNT(N20:N24),ROUND(SUM(N20:N24),0),""),"") | O25: =+IFERROR(IF(COUNT(O20:O24),ROUND(SUM(O20:O24),0),""),"") | P25: =+IFERROR(IF(COUNT(P20:P24),ROUND(SUM(P20:P24),0),""),"") | Q25: =IFERROR(IF(COUNT(P25),ROUND(P25/$P$58*100,2),""),0) | R25: =+IFERROR(IF(COUNT(R20:R24),ROUND(SUM(R20:R24),0),""),"") | S25: =+IFERROR(IF(COUNT(S20:S24),ROUND(SUM(S20:S24),0),""),"") | T25: =+IFERROR(IF(COUNT(T20:T24),ROUND(SUM(T20:T24),0),""),"") | U25: =+IFERROR(IF(COUNT(L25,T25),ROUND(SUM(L25,T25)/SUM('Shareholding Pattern'!$L$57,'Shareholding Pattern'!$T$57)*100,2),""),0) | V25: =+IFERROR(IF(COUNT(V20:V24),ROUND(SUM(V20:V24),0),""),"") | W25: =+IFERROR(IF(COUNT(V25),ROUND(SUM(V25)/SUM(L25)*100,2),""),0) | X25: =+IFERROR(IF(COUNT(X20:X24),ROUND(SUM(X20:X24),0),""),"") | Y25: =+IFERROR(IF(COUNT(X25),ROUND(SUM(X25)/SUM(L25)*100,2),""),0) | Z25: =+IFERROR(IF(COUNT(Z20:Z24),ROUND(SUM(Z20:Z24),0),""),"") | AR25: Foreign [Member] | AX25: AIF | AZ25: AlternativeInvestmentFundsDomain | BF25: DetailsOfSharesHeldByAlternativeInvestmentFundsAxis
E26: Total Shareholding of Promoter and Promoter Group (A)=(A)(1)+(A)(2) | H26: =+IFERROR(IF(COUNT(H18,H25),ROUND(SUM(H18,H25),0),""),"") -> 2 | I26: =+IFERROR(IF(COUNT(I18,I25),ROUND(SUM(I18,I25),0),""),"") -> 4381397 | J26: =+IFERROR(IF(COUNT(J18,J25),ROUND(SUM(J18,J25),0),""),"") | K26: =+IFERROR(IF(COUNT(K18,K25),ROUND(SUM(K18,K25),0),""),"") | L26: =+IFERROR(IF(COUNT(L18,L25),ROUND(SUM(L18,L25),0),""),"") -> 4381397 | M26: =+IFERROR(IF(COUNT(L26),ROUND(L26/'Shareholding Pattern'!$L$57*100,2),""),0) -> 43.81 | N26: =+IFERROR(IF(COUNT(N18,N25),ROUND(SUM(N18,N25),0),""),"") -> 4381397 | O26: =+IFERROR(IF(COUNT(O18,O25),ROUND(SUM(O18,O25),0),""),"") | P26: =+IFERROR(IF(COUNT(P18,P25),ROUND(SUM(P18,P25),0),""),"") -> 4381397 | Q26: =IFERROR(IF(COUNT(P26),ROUND(P26/$P$58*100,2),""),0) -> 43.81 | R26: =+IFERROR(IF(COUNT(R18,R25),ROUND(SUM(R18,R25),0),""),"") | S26: =+IFERROR(IF(COUNT(S18,S25),ROUND(SUM(S18,S25),0),""),"") | T26: =+IFERROR(IF(COUNT(T18,T25),ROUND(SUM(T18,T25),0),""),"") | U26: =+IFERROR(IF(COUNT(L26,T26),ROUND(SUM(L26,T26)/SUM('Shareholding Pattern'!$L$57,'Shareholding Pattern'!$T$57)*100,2),""),0) -> 43.81 | V26: =+IFERROR(IF(COUNT(V18,V25),ROUND(SUM(V18,V25),0),""),"") | W26: =+IFERROR(IF(COUNT(V26),ROUND(SUM(V26)/SUM(L26)*100,2),""),0) | X26: =+IFERROR(IF(COUNT(X18,X25),ROUND(SUM(X18,X25),0),""),"") | Y26: =+IFERROR(IF(COUNT(X26),ROUND(SUM(X26)/SUM(L26)*100,2),""),0) | Z26: =+IFERROR(IF(COUNT(Z18,Z25),ROUND(SUM(Z18,Z25),0),""),"") -> 4381397 | AR26: Shareholding of promoter and promoter group [Member] | AX26: FVC | AZ26: ForeignVentureCapitalInvestorsDomain | BF26: DetailsOfSharesHeldByForeignVentureCapitalInvestorsAxis
F27: Details of Shares which remain unclaimed for Promoter & Promoter Group | AX27: FPI_Insti | AZ27: InstitutionsForeignPortfolioInvestorDomain | BF27: DetailsOfSharesHeldByInstitutionsForeignPortfolioInvestorAxis
E28: B | F28: Table III - Statement showing shareholding pattern of the Public shareholder | H28: Note : Kindly show details of shareholders having more than one percentage of total no of shares. Please refer software manual. | AX28: Bank_Insti | AZ28: FinancialInstitutionOrBanksDomain | BF28: DetailsOfSharesHeldByFinancialInstitutionOrBanksAxis
E29: (1) | F29: Institutions | AX29: Insurance | AZ29: InsuranceCompaniesDomain | BF29: DetailsOfSharesHeldByInsuranceCompaniesAxis
E30: (a) | F30: Mutual Funds | L30: =+IFERROR(IF(COUNT(I30:K30),ROUND(SUM(I30:K30),0),""),"") | M30: =+IFERROR(IF(COUNT(L30),ROUND(L30/'Shareholding Pattern'!$L$57*100,2),""),"") | N30: =IF(I30="","",I30) | P30: =+IFERROR(IF(COUNT(N30:O30),ROUND(SUM(N30:O30),0),""),"") | Q30: =+IFERROR(IF(COUNT(P30),ROUND(P30/'Shareholding Pattern'!$P$58*100,2),""),"") | T30: =+IFERROR(IF(COUNT(R30:S30),ROUND(SUM(R30:S30),0),""),"") | U30: =+IFERROR(IF(COUNT(L30,T30),ROUND(SUM(L30,T30)/SUM('Shareholding Pattern'!$L$57,'Shareholding Pattern'!$T$57)*100,2),""),"") | W30: =+IFERROR(IF(COUNT(V30),ROUND(SUM(V30)/SUM(L30)*100,2),""),0) | AR30: Mutual funds or UTI [Member] | AX30: Pension | AZ30: ProvidentFundsOrPensionFundsDomain | BF30: DetailsOfSharesHeldByProvidentFundsOrPensionFundsAxis
E31: (b) | F31: Venture Capital Funds | L31: =+IFERROR(IF(COUNT(I31:K31),ROUND(SUM(I31:K31),0),""),"") | M31: =+IFERROR(IF(COUNT(L31),ROUND(L31/'Shareholding Pattern'!$L$57*100,2),""),"") | N31: =IF(I31="","",I31) | P31: =+IFERROR(IF(COUNT(N31:O31),ROUND(SUM(N31:O31),0),""),"") | Q31: =+IFERROR(IF(COUNT(P31),ROUND(P31/'Shareholding Pattern'!$P$58*100,2),""),"") | T31: =+IFERROR(IF(COUNT(R31:S31),ROUND(SUM(R31:S31),0),""),"") | U31: =+IFERROR(IF(COUNT(L31,T31),ROUND(SUM(L31,T31)/SUM('Shareholding Pattern'!$L$57,'Shareholding Pattern'!$T$57)*100,2),""),"") | W31: =+IFERROR(IF(COUNT(V31),ROUND(SUM(V31)/SUM(L31)*100,2),""),0) | AR31: Venture capital funds [Member] | AX31: Other_Insti | AZ31: OtherInstitutionsDomain | BF31: DetailsOfSharesHeldByOtherInstitutionsAxis
E32: (c) | F32: Alternate Investment Funds | L32: =+IFERROR(IF(COUNT(I32:K32),ROUND(SUM(I32:K32),0),""),"") | M32: =+IFERROR(IF(COUNT(L32),ROUND(L32/'Shareholding Pattern'!$L$57*100,2),""),"") | N32: =IF(I32="","",I32) | P32: =+IFERROR(IF(COUNT(N32:O32),ROUND(SUM(N32:O32),0),""),"") | Q32: =+IFERROR(IF(COUNT(P32),ROUND(P32/'Shareholding Pattern'!$P$58*100,2),""),"") | T32: =+IFERROR(IF(COUNT(R32:S32),ROUND(SUM(R32:S32),0),""),"") | U32: =+IFERROR(IF(COUNT(L32,T32),ROUND(SUM(L32,T32)/SUM('Shareholding Pattern'!$L$57,'Shareholding Pattern'!$T$57)*100,2),""),"") | W32: =+IFERROR(IF(COUNT(V32),ROUND(SUM(V32)/SUM(L32)*100,2),""),0) | AR32: Alternative investment funds [Member] | AX32: CG&SG&PI | AZ32: CentralGovernmentOrStateGovernmentSOrPresidentOfIndiaDomain | BF32: DetailsOfSharesHeldByCentralGovernmentOrStateGovernmentSOrPresidentOfIndiaAxis
E33: (d) | F33: Foreign Venture Capital Investors | L33: =+IFERROR(IF(COUNT(I33:K33),ROUND(SUM(I33:K33),0),""),"") | M33: =+IFERROR(IF(COUNT(L33),ROUND(L33/'Shareholding Pattern'!$L$57*100,2),""),"") | N33: =IF(I33="","",I33) | P33: =+IFERROR(IF(COUNT(N33:O33),ROUND(SUM(N33:O33),0),""),"") | Q33: =+IFERROR(IF(COUNT(P33),ROUND(P33/'Shareholding Pattern'!$P$58*100,2),""),"") | T33: =+IFERROR(IF(COUNT(R33:S33),ROUND(SUM(R33:S33),0),""),"") | U33: =+IFERROR(IF(COUNT(L33,T33),ROUND(SUM(L33,T33)/SUM('Shareholding Pattern'!$L$57,'Shareholding Pattern'!$T$57)*100,2),""),"") | W33: =+IFERROR(IF(COUNT(V33),ROUND(SUM(V33)/SUM(L33)*100,2),""),0) | AR33: Foreign venture capital investors [Member] | AX33: Indivisual(aI) | AZ33: IndividualShareholdersHoldingNominalShareCapitalUpToRsTwoLakhDomain | BF33: DetailsOfSharesHeldByIndividualShareholdersHoldingNominalShareCapitalUpToRsTwoLakhAxis
E34: (e) | F34: Foreign Portfolio Investors | L34: =+IFERROR(IF(COUNT(I34:K34),ROUND(SUM(I34:K34),0),""),"") | M34: =+IFERROR(IF(COUNT(L34),ROUND(L34/'Shareholding Pattern'!$L$57*100,2),""),"") | N34: =IF(I34="","",I34) | P34: =+IFERROR(IF(COUNT(N34:O34),ROUND(SUM(N34:O34),0),""),"") | Q34: =+IFERROR(IF(COUNT(P34),ROUND(P34/'Shareholding Pattern'!$P$58*100,2),""),"") | T34: =+IFERROR(IF(COUNT(R34,S34),ROUND(SUM(R34,S34),0),""),"") | U34: =+IFERROR(IF(COUNT(L34,T34),ROUND(SUM(L34,T34)/SUM('Shareholding Pattern'!$L$57,'Shareholding Pattern'!$T$57)*100,2),""),"") | W34: =+IFERROR(IF(COUNT(V34),ROUND(SUM(V34)/SUM(L34)*100,2),""),0) | AR34: Institutions - Foreign portfolio investor [Member] | AX34: Indivisual(aII) | AZ34: IndividualShareholdersHoldingNominalShareCapitalInExcessOfRsTwoLakhDomain | BF34: DetailsOfSharesHeldByIndividualShareholdersHoldingNominalShareCapitalInExcessOfRsTwoLakhAxis
E35: (f) | F35: Financial Institutions/ Banks | H35: 1 | I35: 13926 | L35: 13926 | M35: =+IFERROR(IF(COUNT(L35),ROUND(L35/'Shareholding Pattern'!$L$57*100,2),""),"") -> 0.14 | N35: 13926 | P35: 13926 | Q35: 0.14 | T35: =+IFERROR(IF(COUNT(R35:S35),ROUND(SUM(R35:S35),0),""),"") | U35: =+IFERROR(IF(COUNT(L35,T35),ROUND(SUM(L35,T35)/SUM('Shareholding Pattern'!$L$57,'Shareholding Pattern'!$T$57)*100,2),""),"") -> 0.14 | W35: =+IFERROR(IF(COUNT(V35),ROUND(SUM(V35)/SUM(L35)*100,2),""),0) | Z35: 13926 | AR35: Financial Institution or Banks [Member] | AX35: NBFC | AZ35: NBFCsRegisteredWithRbiDomain | BF35: DetailsOfSharesHeldByNBFCsRegisteredWithRbiAxis
E36: (g) | F36: Insurance Companies | L36: =+IFERROR(IF(COUNT(I36:K36),ROUND(SUM(I36:K36),0),""),"") | M36: =+IFERROR(IF(COUNT(L36),ROUND(L36/'Shareholding Pattern'!$L$57*100,2),""),"") | N36: =IF(I36="","",I36) | P36: =+IFERROR(IF(COUNT(N36:O36),ROUND(SUM(N36:O36),0),""),"") | Q36: =+IFERROR(IF(COUNT(P36),ROUND(P36/'Shareholding Pattern'!$P$58*100,2),""),"") | T36: =+IFERROR(IF(COUNT(R36:S36),ROUND(SUM(R36:S36),0),""),"") | U36: =+IFERROR(IF(COUNT(L36,T36),ROUND(SUM(L36,T36)/SUM('Shareholding Pattern'!$L$57,'Shareholding Pattern'!$T$57)*100,2),""),"") | W36: =+IFERROR(IF(COUNT(V36),ROUND(SUM(V36)/SUM(L36)*100,2),""),0) | AR36: Insurance Companies [Member] | AX36: EmpTrust | AZ36: EmployeeTrustsDomain | BF36: DetailsOfSharesHeldByEmployeeTrustsAxis
E37: (h) | F37: Provident Funds/ Pension Funds | L37: =+IFERROR(IF(COUNT(I37:K37),ROUND(SUM(I37:K37),0),""),"") | M37: =+IFERROR(IF(COUNT(L37),ROUND(L37/'Shareholding Pattern'!$L$57*100,2),""),"") | N37: =IF(I37="","",I37) | P37: =+IFERROR(IF(COUNT(N37:O37),ROUND(SUM(N37:O37),0),""),"") | Q37: =+IFERROR(IF(COUNT(P37),ROUND(P37/'Shareholding Pattern'!$P$58*100,2),""),"") | T37: =+IFERROR(IF(COUNT(R37:S37),ROUND(SUM(R37:S37),0),""),"") | U37: =+IFERROR(IF(COUNT(L37,T37),ROUND(SUM(L37,T37)/SUM('Shareholding Pattern'!$L$57,'Shareholding Pattern'!$T$57)*100,2),""),"") | W37: =+IFERROR(IF(COUNT(V37),ROUND(SUM(V37)/SUM(L37)*100,2),""),0) | AR37: Provident Funds or pension funds [Member] | AX37: OD | AZ37: OverseasDepositoriesDomain | BF37: DetailsOfSharesHeldByOverseasDepositoriesAxis
E38: (i) | F38: Any Other (specify) | L38: =+IFERROR(IF(COUNT(I38:K38),ROUND(SUM(I38:K38),0),""),"") | M38: =+IFERROR(IF(COUNT(L38),ROUND(L38/'Shareholding Pattern'!$L$57*100,2),""),"") | N38: =IF(I38="","",I38) | P38: =+IFERROR(IF(COUNT(N38:O38),ROUND(SUM(N38:O38),0),""),"") | Q38: =+IFERROR(IF(COUNT(P38),ROUND(P38/'Shareholding Pattern'!$P$58*100,2),""),"") | T38: =+IFERROR(IF(COUNT(R38:S38),ROUND(SUM(R38:S38),0),""),"") | U38: =+IFERROR(IF(COUNT(L38,T38),ROUND(SUM(L38,T38)/SUM('Shareholding Pattern'!$L$57,'Shareholding Pattern'!$T$57)*100,2),""),"") | W38: =+IFERROR(IF(COUNT(V38),ROUND(SUM(V38)/SUM(L38)*100,2),""),0) | AR38: Other institutions [Member] | AX38: Other_NonInsti | AZ38: OtherNonInstitutionsDomain | BF38: DetailsOfSharesHeldByOtherNonInstitutionsAxis
E39: Sub-Total (B)(1) | H39: =+IFERROR(IF(COUNT(H30:H38),ROUND(SUM(H30:H38),0),""),"") -> 1 | I39: =+IFERROR(IF(COUNT(I30:I38),ROUND(SUM(I30:I38),0),""),"") -> 13926 | J39: =+IFERROR(IF(COUNT(J30:J38),ROUND(SUM(J30:J38),0),""),"") | K39: =+IFERROR(IF(COUNT(K30:K38),ROUND(SUM(K30:K38),0),""),"") | L39: =+IFERROR(IF(COUNT(I39:K39),ROUND(SUM(I39:K39),0),""),"") -> 13926 | M39: =+IFERROR(IF(COUNT(L39),ROUND(L39/'Shareholding Pattern'!$L$57*100,2),""),"") -> 0.14 | N39: =+IFERROR(IF(COUNT(N30:N38),ROUND(SUM(N30:N38),0),""),"") -> 13926 | O39: =+IFERROR(IF(COUNT(O30:O38),ROUND(SUM(O30:O38),0),""),"") | P39: =+IFERROR(IF(COUNT(P30:P38),ROUND(SUM(P30:P38),0),""),"") -> 13926 | Q39: =+IFERROR(IF(COUNT(P39),ROUND(P39/'Shareholding Pattern'!$P$58*100,2),""),"") -> 0.14 | R39: =+IFERROR(IF(COUNT(R30:R38),ROUND(SUM(R30:R38),0),""),"") | S39: =+IFERROR(IF(COUNT(S30:S38),ROUND(SUM(S30:S38),0),""),"") | T39: =+IFERROR(IF(COUNT(T30:T38),ROUND(SUM(T30:T38),0),""),"") | U39: =+IFERROR(IF(COUNT(L39,T39),ROUND(SUM(L39,T39)/SUM('Shareholding Pattern'!$L$57,'Shareholding Pattern'!$T$57)*100,2),""),"") -> 0.14 | V39: =+IFERROR(IF(COUNT(V30:V38),ROUND(SUM(V30:V38),0),""),"") | W39: =+IFERROR(IF(COUNT(V39),ROUND(SUM(V39)/SUM(L39)*100,2),""),0) | Z39: =+IFERROR(IF(COUNT(Z30:Z38),ROUND(SUM(Z30:Z38),0),""),"") -> 13926 | AR39: Institutions [Member] | AX39: DRHolder | AZ39: CustodianOrDRHolderDomain | BF39: DetailsOfSharesHeldByCustodianOrDRHolderAxis
E40: ( 2 ) | F40: Central Government/ State Government(s)/ President of India | L40: =+IFERROR(IF(COUNT(I40:K40),ROUND(SUM(I40:K40),0),""),"") | M40: =+IFERROR(IF(COUNT(L40),ROUND(L40/'Shareholding Pattern'!$L$57*100,2),""),"") | N40: =IF(I40="","",I40) | P40: =+IFERROR(IF(COUNT(N40:O40),ROUND(SUM(N40:O40),0),""),"") | Q40: =+IFERROR(IF(COUNT(P40),ROUND(P40/'Shareholding Pattern'!$P$58*100,2),""),"") | T40: =+IFERROR(IF(COUNT(R40:S40),ROUND(SUM(R40:S40),0),""),"") | U40: =+IFERROR(IF(COUNT(L40,T40),ROUND(SUM(L40,T40)/SUM('Shareholding Pattern'!$L$57,'Shareholding Pattern'!$T$57)*100,2),""),"") | W40: =+IFERROR(IF(COUNT(V40),ROUND(SUM(V40)/SUM(L40)*100,2),""),0) | AR40: Central Government or State Government(s) or President of India [Member] | AX40: EBT | AZ40: EmployeeBenefitsTrustsDomain | BF40: DetailsOfSharesHeldByEmployeeBenefitsTrustsAxis
E41: Sub-Total (B)(2) | H41: =+IF(COUNT(H40),SUM(H40),"") | I41: =+IF(COUNT(I40),SUM(I40),"") | J41: =+IF(COUNT(J40),SUM(J40),"") | K41: =+IF(COUNT(K40),SUM(K40),"") | L41: =+IF(COUNT(L40),SUM(L40),"") | M41: =+IFERROR(IF(COUNT(L41),ROUND(L41/'Shareholding Pattern'!$L$57*100,2),""),"") | N41: =+IF(COUNT(N40),SUM(N40),"") | O41: =+IF(COUNT(O40),SUM(O40),"") | P41: =+IF(COUNT(P40),SUM(P40),"") | Q41: =+IFERROR(IF(COUNT(P41),ROUND(P41/'Shareholding Pattern'!$P$58*100,2),""),"") | R41: =+IF(COUNT(R40),SUM(R40),"") | S41: =+IF(COUNT(S40),SUM(S40),"") | T41: =+IF(COUNT(T40),SUM(T40),"") | U41: =+IFERROR(IF(COUNT(L41,T41),ROUND(SUM(L41,T41)/SUM('Shareholding Pattern'!$L$57,'Shareholding Pattern'!$T$57)*100,2),""),"") | V41: =+IF(COUNT(V40),SUM(V40),"") | W41: =+IFERROR(IF(COUNT(V41),ROUND(SUM(V41)/SUM(L41)*100,2),""),0) | Z41: =+IF(COUNT(Z40),SUM(Z40),"") | AR41: Goverments [Member]
E42: ( 3 ) | F42: Non-institutions
E43: (a(i)) | F43: 'Indivisual(aI)'!F12 | H43: 5453 | I43: 2323327 | L43: 2323327 | M43: =+IFERROR(IF(COUNT(L43),ROUND(L43/'Shareholding Pattern'!$L$57*100,2),""),"") -> 23.23 | N43: 2323327 | P43: 2323327 | Q43: 23.23 | T43: =+IFERROR(IF(COUNT(R43:S43),ROUND(SUM(R43:S43),0),""),"") | U43: =+IFERROR(IF(COUNT(L43,T43),ROUND(SUM(L43,T43)/SUM('Shareholding Pattern'!$L$57,'Shareholding Pattern'!$T$57)*100,2),""),"") -> 23.23 | W43: =+IFERROR(IF(COUNT(V43),ROUND(SUM(V43)/SUM(L43)*100,2),""),0) | Z43: 1951820 | AR43: Individual shareholders holding nominal share capital up to Rs two lakh [Member]
E44: (a(ii)) | F44: 'Indivisual(aII)'!F12 | H44: 15 | I44: 3012373 | L44: 3012373 | M44: =+IFERROR(IF(COUNT(L44),ROUND(L44/'Shareholding Pattern'!$L$57*100,2),""),"") -> 30.12 | N44: 3012373 | P44: 3012373 | Q44: 30.12 | T44: =+IFERROR(IF(COUNT(R44:S44),ROUND(SUM(R44:S44),0),""),"") | U44: =+IFERROR(IF(COUNT(L44,T44),ROUND(SUM(L44,T44)/SUM('Shareholding Pattern'!$L$57,'Shareholding Pattern'!$T$57)*100,2),""),"") -> 30.12 | W44: =+IFERROR(IF(COUNT(V44),ROUND(SUM(V44)/SUM(L44)*100,2),""),0) | Z44: 989360 | AR44: Individual shareholders holding nominal share capital in excess of Rs two lakh [Member]
E45: (b) | F45: NBFCs registered with RBI | L45: =+IFERROR(IF(COUNT(I45:K45),ROUND(SUM(I45:K45),0),""),"") | M45: =+IFERROR(IF(COUNT(L45),ROUND(L45/'Shareholding Pattern'!$L$57*100,2),""),"") | P45: =+IFERROR(IF(COUNT(N45:O45),ROUND(SUM(N45:O45),0),""),"") | Q45: =+IFERROR(IF(COUNT(P45),ROUND(P45/'Shareholding Pattern'!$P$58*100,2),""),"") | T45: =+IFERROR(IF(COUNT(R45:S45),ROUND(SUM(R45:S45),0),""),"") | U45: =+IFERROR(IF(COUNT(L45,T45),ROUND(SUM(L45,T45)/SUM('Shareholding Pattern'!$L$57,'Shareholding Pattern'!$T$57)*100,2),""),"") | W45: =+IFERROR(IF(COUNT(V45),ROUND(SUM(V45)/SUM(L45)*100,2),""),0) | AR45: NBFCs registered with RBI [Member]
E46: (c) | F46: Employee Trusts | L46: =+IFERROR(IF(COUNT(I46:K46),ROUND(SUM(I46:K46),0),""),"") | M46: =+IFERROR(IF(COUNT(L46),ROUND(L46/'Shareholding Pattern'!$L$57*100,2),""),"") | P46: =+IFERROR(IF(COUNT(N46:O46),ROUND(SUM(N46:O46),0),""),"") | Q46: =+IFERROR(IF(COUNT(P46),ROUND(P46/'Shareholding Pattern'!$P$58*100,2),""),"") | T46: =+IFERROR(IF(COUNT(R46:S46),ROUND(SUM(R46:S46),0),""),"") | U46: =+IFERROR(IF(COUNT(L46,T46),ROUND(SUM(L46,T46)/SUM('Shareholding Pattern'!$L$57,'Shareholding Pattern'!$T$57)*100,2),""),"") | W46: =+IFERROR(IF(COUNT(V46),ROUND(SUM(V46)/SUM(L46)*100,2),""),0) | AR46: Employee Trusts [Member]
E47: (d) | F47: Overseas Depositories (holding DRs) (balancing figure) | L47: =+IFERROR(IF(COUNT(I47:K47),ROUND(SUM(I47:K47),0),""),"") | M47: =+IFERROR(IF(COUNT(L47),ROUND(L47/'Shareholding Pattern'!$L$57*100,2),""),"") | P47: =+IFERROR(IF(COUNT(N47:O47),ROUND(SUM(N47:O47),0),""),"") | Q47: =+IFERROR(IF(COUNT(P47),ROUND(P47/'Shareholding Pattern'!$P$58*100,2),""),"") | T47: =+IFERROR(IF(COUNT(R47:S47),ROUND(SUM(R47:S47),0),""),"") | U47: =+IFERROR(IF(COUNT(L47,T47),ROUND(SUM(L47,T47)/SUM('Shareholding Pattern'!$L$57,'Shareholding Pattern'!$T$57)*100,2),""),"") | W47: =+IFERROR(IF(COUNT(V47),ROUND(SUM(V47)/SUM(L47)*100,2),""),0) | AR47: Overseas Depositories [Member]
...

Sheet IndHUF
I1: 1
F2: Name of shareholder | G2: Permanent account number of shareholder | H2: Number of fully paid up equity shares | I2: Number of partly paid-up equity shares | J2: Number of shares underlying outstanding depository receipts | K2: Total number of shares | L2: Shareholding as a percentage of total number of shares held by promoters and public shareholders and custodians or DR holders | M2: Number of voting rights held by same class of securities | N2: Number of voting rights held by differential voting rights | O2: Total Number of voting rights | P2: Percentage of total number of voting rights | Q2: Number of shares underlying outstanding convertible securities | R2: Number of warrant | S2: Number of warrant and convertible securities | T2: Total shareholding as a percentage assuming full conversion of convertible securities | U2: Number of the locked-in-shares | V2: Locked-in-shares as a percentage of total number of shares | W2: Pledged or encumbered - number of shares | X2: Pledged or encumbered shares held as percentage of total number of shares | Y2: Number of equity shares held in dematerialized form | Z2: Reason for not providing PAN | AA2: Shareholder type | AR2: Promoter | AS2: Promoter Group
E9: Searial No. | F9: Name of the Shareholders (I) | G9: PAN (II) | H9: No. of fully paid up equity shares held (IV) | I9: No. Of Partly paid-up equity shares held (V) | J9: No. Of shares underlying Depository Receipts (VI) | K9: Total nos. shares held (VII) = (IV)+(V)+ (VI) | L9: Shareholding as a % of total no. of shares (calculated as per SCRR, 1957) (VIII) As a % of (A+B+C2) | M9: Number of Voting Rights held in each class of securities (IX) | Q9: No. Of Shares Underlying Outstanding convertible securities (X) | R9: No. of Shares Underlying Outstanding Warrants (Xi) | S9: No. Of Shares Underlying Outstanding convertible securities and No. Of Warrants (Xi) (a) | T9: Shareholding , as a % assuming full conversion of convertible securities (as a percentage of diluted share capital) (XI)= (VII)+(Xi)(a) As a % of (A+B+C2) | U9: Number of Locked in shares (XII) | W9: Number of Shares pledged or otherwise encumbered (XIII) | Y9: Number of equity shares held in dematerialized form (XIV) | Z9: Reason for not providing PAN | AA9: Shareholder type
M10: No of Voting (XIV) Rights | P10: Total as a % of Total Voting rights
M11: Class eg:X | N11: Class eg:y | O11: Total | U11: No. (a) | V11: As a % of total Shares held (b) | W11: No. (a) | X11: As a % of total Shares held (b)
E12: A1(a) | F12: Individuals/Hindu undivided Family
K13: =+IFERROR(IF(COUNT(H13:J13),ROUND(SUM(H13:J13),0),""),"") | L13: =+IFERROR(IF(COUNT(K13),ROUND(K13/'Shareholding Pattern'!$L$57*100,2),""),0) | M13: =IF(H13="","",H13) | O13: =+IFERROR(IF(COUNT(M13:N13),ROUND(SUM(M13,N13),2),""),"") | P13: =+IFERROR(IF(COUNT(O13),ROUND(O13/('Shareholding Pattern'!$P$58)*100,2),""),0) | S13: =+IFERROR(IF(COUNT(Q13:R13),ROUND(SUM(Q13:R13),0),""),"") | T13: =+IFERROR(IF(COUNT(K13,S13),ROUND(SUM(S13,K13)/SUM('Shareholding Pattern'!$L$57,'Shareholding Pattern'!$T$57)*100,2),""),0) | V13: =+IFERROR(IF(COUNT(U13),ROUND(SUM(U13)/SUM(K13)*100,2),""),0) | X13: =+IFERROR(IF(COUNT(W13),ROUND(SUM(W13)/SUM(K13)*100,2),""),0) | AC13: =IF(SUM(H13:Y13)>0,1,0) -> 0 | AD13: =IF(COUNT(H16:$Y$15001)=0,"",SUM(AC1:AC65533)) -> 1
